BEGIN:VCALENDAR
VERSION:2.0
PRODID:icalendar-ruby
CALSCALE:GREGORIAN
METHOD:PUBLISH
BEGIN:VEVENT
DTSTAMP:20260423T102107Z
UID:36-1335826@thetribetn.com
DTSTART:20261101T153000Z
DTEND:20261102T040000Z
CLASS:PUBLIC
CREATED:20260422T215756
DESCRIPTION:
LAST-MODIFIED:20260422T215756
LOCATION:527 Inman Street West\, Cleveland\, Tn. 32311
SUMMARY:Sunday Morning Prayer
URL;VALUE=URI:https://www.thetribetn.com/events/sunday-morning-prayer/2026-
 11-01
ATTACH;FILENAME=_DSF6429.JPG;FMTTYPE=image/jpeg:https://dq5pwpg1q8ru0.cloud
 front.net/2025/12/30/20/01/23/4a417672-86f3-4541-85c0-65a79ba8dfbc/_DSF642
 9.JPG
END:VEVENT
END:VCALENDAR
